BEGIN:VCALENDAR
VERSION:2.0
PRODID:-//WMCN 91.7FM Macalester College Radio - ECPv5.9.1//NONSGML v1.0//EN
CALSCALE:GREGORIAN
METHOD:PUBLISH
X-WR-CALNAME:WMCN 91.7FM Macalester College Radio
X-ORIGINAL-URL:https://www.wmcn.fm
X-WR-CALDESC:Events for WMCN 91.7FM Macalester College Radio
BEGIN:VTIMEZONE
TZID:UTC
BEGIN:STANDARD
TZOFFSETFROM:+0000
TZOFFSETTO:+0000
TZNAME:UTC
DTSTART:20240101T000000
END:STANDARD
END:VTIMEZONE
BEGIN:VEVENT
DTSTART;VALUE=DATE:20241025
DTEND;VALUE=DATE:20241026
DTSTAMP:20260423T001401
CREATED:20241009T004633Z
LAST-MODIFIED:20241009T004633Z
UID:2747-1729814400-1729900799@www.wmcn.fm
SUMMARY:Maggie Rogers @ Target Center
DESCRIPTION:WMCN is giving away 3 PAIRS OF TICKETS to Maggie Rogers at Target Center on Oct. 25\nGo to instagram @wmcn.radio to enter the giveaway. Winners announced Oct. 20
URL:https://www.wmcn.fm/?tribe_events=maggie-rogers-target-center
END:VEVENT
END:VCALENDAR